BEGIN:VCALENDAR
VERSION:2.0
PRODID:-//wp-events-plugin.com//7.2.3.1//EN
BEGIN:VEVENT
UID:351@joanne-harris.co.uk
DTSTART;TZID=Europe/London:20240608T160000
DTEND;TZID=Europe/London:20240608T180000
DTSTAMP:20240309T184814Z
URL:https://www.joanne-harris.co.uk/events/fairford-bookfest/
SUMMARY:Fairford Bookfest
DESCRIPTION:I'll be here\, talking about my upcoming book\, THE MOONLIGHT M
 ARKET...\n\n\n\nTickets here.
LOCATION:Fairford Cricket Club\, 16 Park Street \, Fairford\, GL7 4JJ\, Uni
 ted Kingdom
X-APPLE-STRUCTURED-LOCATION;VALUE=URI;X-ADDRESS=16 Park Street \, Fairford\
 , GL7 4JJ\, United Kingdom;X-APPLE-RADIUS=100;X-TITLE=Fairford Cricket Clu
 b:geo:0,0
END:VEVENT
BEGIN:VTIMEZONE
TZID:Europe/London
X-LIC-LOCATION:Europe/London
BEGIN:DAYLIGHT
DTSTART:20240331T020000
TZOFFSETFROM:+0000
TZOFFSETTO:+0100
TZNAME:BST
END:DAYLIGHT
END:VTIMEZONE
END:VCALENDAR