BEGIN:VCALENDAR
VERSION:2.0
PRODID:-//wp-events-plugin.com//7.2.3.1//EN
BEGIN:VEVENT
UID:271@joanne-harris.co.uk
DTSTART;TZID=Europe/London:20210906T183000
DTEND;TZID=Europe/London:20210906T193000
DTSTAMP:20210621T095105Z
URL:https://www.joanne-harris.co.uk/events/fane-an-evening-in-with-joanne-
 harris/
SUMMARY:FANE: In Conversation With Joanne Harris
DESCRIPTION:The launch of A NARROW DOOR\, online\, for FANE.\n\n\n\nDetails
  here.
END:VEVENT
BEGIN:VTIMEZONE
TZID:Europe/London
X-LIC-LOCATION:Europe/London
BEGIN:DAYLIGHT
DTSTART:20210328T020000
TZOFFSETFROM:+0000
TZOFFSETTO:+0100
TZNAME:BST
END:DAYLIGHT
END:VTIMEZONE
END:VCALENDAR