BEGIN:VCALENDAR
VERSION:2.0
PRODID:-//wp-events-plugin.com//7.2.3.1//EN
BEGIN:VEVENT
UID:290@joanne-harris.co.uk
DTSTART;TZID=Europe/London:20220403T150000
DTEND;TZID=Europe/London:20220403T160000
DTSTAMP:20220202T154143Z
URL:https://www.joanne-harris.co.uk/events/huddersfield-litfest-in-person-
 event-with-rupert-thompson/
SUMMARY:Huddersfield Litfest\, in person event with Rupert Thompson
DESCRIPTION:I'll be chatting about fictional spaces and worldbuilding in A 
 NARROW DOOR.\n\nConversation with Rupert Thompson for the Huddersfield lit
 fest.\n\nDetails here.
LOCATION:Huddersfield University\, Queensgate\, Huddersfield HD1 3DH\,  Hud
 dersfield HD1 3DH\, United Kingdom
GEO:53.64440459999999;-1.7786743000000342
X-APPLE-STRUCTURED-LOCATION;VALUE=URI;X-ADDRESS=Queensgate\, Huddersfield H
 D1 3DH\,  Huddersfield HD1 3DH\, United Kingdom;X-APPLE-RADIUS=100;X-TITLE
 =Huddersfield University:geo:53.64440459999999,-1.7786743000000342
END:VEVENT
BEGIN:VTIMEZONE
TZID:Europe/London
X-LIC-LOCATION:Europe/London
BEGIN:DAYLIGHT
DTSTART:20220327T020000
TZOFFSETFROM:+0000
TZOFFSETTO:+0100
TZNAME:BST
END:DAYLIGHT
END:VTIMEZONE
END:VCALENDAR