BEGIN:VCALENDAR
VERSION:2.0
PRODID:-//wp-events-plugin.com//7.2.3.1//EN
BEGIN:VEVENT
UID:344@joanne-harris.co.uk
DTSTART;TZID=Europe/London:20240323T120000
DTEND;TZID=Europe/London:20240323T130000
DTSTAMP:20240216T161842Z
URL:https://www.joanne-harris.co.uk/events/oxford-litfest/
SUMMARY:Oxford Litfest
DESCRIPTION:I'll be here in Oxford\, talking to Nick Higham about my work -
  and celebrating the 25th anniversary of CHOCOLAT!\n\n\n\nDetails here.\n\
 n&nbsp\;
LOCATION:Pusey House Chapel\, St Giles'\, Oxford\, OX1 3LZ\, United Kingdom
X-APPLE-STRUCTURED-LOCATION;VALUE=URI;X-ADDRESS=St Giles'\, Oxford\, OX1 3L
 Z\, United Kingdom;X-APPLE-RADIUS=100;X-TITLE=Pusey House Chapel:geo:0,0
END:VEVENT
BEGIN:VTIMEZONE
TZID:Europe/London
X-LIC-LOCATION:Europe/London
BEGIN:STANDARD
DTSTART:20231029T010000
TZOFFSETFROM:+0100
TZOFFSETTO:+0000
TZNAME:GMT
END:STANDARD
END:VTIMEZONE
END:VCALENDAR