BEGIN:VCALENDAR
VERSION:2.0
PRODID:-//wp-events-plugin.com//7.2.3.1//EN
BEGIN:VEVENT
UID:417@joanne-harris.co.uk
DTSTART;TZID=Europe/London:20260611T000000
DTEND;TZID=Europe/London:20260618T000000
DTSTAMP:20260224T144544Z
URL:https://www.joanne-harris.co.uk/events/seabourn-cruise-barcelona-to-gi
 jon/
SUMMARY:Seabourn Cruise: Barcelona to Gijon
DESCRIPTION:I'll be on the Seabourn Venture between Barcelona and Gijon.\n\
 nDetails here.
END:VEVENT
BEGIN:VTIMEZONE
TZID:Europe/London
X-LIC-LOCATION:Europe/London
BEGIN:DAYLIGHT
DTSTART:20260329T020000
TZOFFSETFROM:+0000
TZOFFSETTO:+0100
TZNAME:BST
END:DAYLIGHT
END:VTIMEZONE
END:VCALENDAR