BEGIN:VCALENDAR
VERSION:2.0
PRODID:-//wp-events-plugin.com//7.2.3.1//EN
BEGIN:VEVENT
UID:386@joanne-harris.co.uk
DTSTART;TZID=Europe/London:20250919T183000
DTEND;TZID=Europe/London:20250919T203000
DTSTAMP:20250721T165116Z
URL:https://www.joanne-harris.co.uk/events/slaithwaite/
SUMMARY:Musical Evening in Slaithwaite
DESCRIPTION:I'll be talking about VIANNE at Slaithwaite Church\, with a pro
 gramme of themed music from some of my friends...\n\nOrganised by A New Le
 af Book Shop.\n\n\n\nDetails here.
LOCATION:St James' Parish Church\, St James Parish Church  Station Road\, S
 laithwaite\, HD7 5AW\, United Kingdom
X-APPLE-STRUCTURED-LOCATION;VALUE=URI;X-ADDRESS=St James Parish Church  Sta
 tion Road\, Slaithwaite\, HD7 5AW\, United Kingdom;X-APPLE-RADIUS=100;X-TI
 TLE=St James' Parish Church:geo:0,0
END:VEVENT
BEGIN:VTIMEZONE
TZID:Europe/London
X-LIC-LOCATION:Europe/London
BEGIN:DAYLIGHT
DTSTART:20250330T020000
TZOFFSETFROM:+0000
TZOFFSETTO:+0100
TZNAME:BST
END:DAYLIGHT
END:VTIMEZONE
END:VCALENDAR