BEGIN:VCALENDAR
VERSION:2.0
PRODID:-//wp-events-plugin.com//7.2.3.1//EN
BEGIN:VEVENT
UID:289@joanne-harris.co.uk
DTSTART;TZID=Europe/London:20220312T190000
DTEND;TZID=Europe/London:20220312T200000
DTSTAMP:20220202T150857Z
URL:https://www.joanne-harris.co.uk/events/suffolk-libraries-online/
SUMMARY:Suffolk Libraries\, online
DESCRIPTION:&nbsp\;\n\nOnline event\, discussing A NARROW DOOR.\n\nDetails 
 here.
END:VEVENT
BEGIN:VTIMEZONE
TZID:Europe/London
X-LIC-LOCATION:Europe/London
BEGIN:STANDARD
DTSTART:20211031T010000
TZOFFSETFROM:+0100
TZOFFSETTO:+0000
TZNAME:GMT
END:STANDARD
END:VTIMEZONE
END:VCALENDAR