BEGIN:VCALENDAR
VERSION:2.0
PRODID:-//wp-events-plugin.com//7.2.3.1//EN
BEGIN:VEVENT
UID:349@joanne-harris.co.uk
DTSTART;TZID=Europe/London:20240515T170000
DTEND;TZID=Europe/London:20240515T183000
DTSTAMP:20240216T161139Z
URL:https://www.joanne-harris.co.uk/events/wakefield-wordfest/
SUMMARY:Wakefield Wordfest
DESCRIPTION:I'll be speaking at Wakefield Library\, as part of the KEY TO T
 HE NORTH initiative.\n\n\n\nDetails here.
LOCATION:Wakefield library\, Wakefield One\, Burton Street\,\, Wakefield\, 
 WF1 2DD\, United Kingdom
X-APPLE-STRUCTURED-LOCATION;VALUE=URI;X-ADDRESS=Wakefield One\, Burton Stre
 et\,\, Wakefield\, WF1 2DD\, United Kingdom;X-APPLE-RADIUS=100;X-TITLE=Wak
 efield library:geo:0,0
END:VEVENT
BEGIN:VTIMEZONE
TZID:Europe/London
X-LIC-LOCATION:Europe/London
BEGIN:DAYLIGHT
DTSTART:20240331T020000
TZOFFSETFROM:+0000
TZOFFSETTO:+0100
TZNAME:BST
END:DAYLIGHT
END:VTIMEZONE
END:VCALENDAR